BEGIN:VCALENDAR
VERSION:2.0
PRODID:-//rm//event//DE
METHOD:REQUEST
NAME:rm
X-WR-CALNAME:rm
BEGIN:VEVENT
UID:f3f26d44-cff3-4183-86e3-ba736fca245a
SEQUENCE:0
DTSTAMP:20260423T161722Z
DTSTART:20250505T220000Z
DTEND:20250507T220000Z
SUMMARY:DEFEA
LOCATION:Athen\, Griechenland
DESCRIPTION:Weitere Informationen
URL;VALUE=URI:https://www.rheinmetall.com/de/events/2025/defea
END:VEVENT
END:VCALENDAR