BEGIN:VCALENDAR
VERSION:2.0
PRODID:-//rm//event//DE
METHOD:REQUEST
NAME:rm
X-WR-CALNAME:rm
BEGIN:VEVENT
UID:17a9e699-4dc6-4a64-b4ef-f601d047799c
SEQUENCE:0
DTSTAMP:20260423T161739Z
DTSTART:20250512T000000Z
DTEND:20250514T000000Z
SUMMARY:FEINDEF
LOCATION:Madrid\, Spanien
DESCRIPTION:Weitere Informationen
URL;VALUE=URI:https://www.rheinmetall.com/de/events/2025/feindef
END:VEVENT
END:VCALENDAR