BEGIN:VCALENDAR
VERSION:2.0
PRODID:-//rm//event//DE
METHOD:REQUEST
NAME:rm
X-WR-CALNAME:rm
BEGIN:VEVENT
UID:e03f0bee-2880-43f1-b259-29816a0ee637
SEQUENCE:0
DTSTAMP:20260423T174521Z
DTSTART:20251012T220000Z
DTEND:20251014T220000Z
SUMMARY:AUSA
LOCATION:Washington DC\, USA
DESCRIPTION:Weitere Informationen
URL;VALUE=URI:https://www.rheinmetall.com/de/events/2025/ausa
END:VEVENT
END:VCALENDAR