BEGIN:VCALENDAR
VERSION:2.0
PRODID:-//rm//event//DE
METHOD:REQUEST
NAME:rm
X-WR-CALNAME:rm
BEGIN:VEVENT
UID:ab89e0bf-d91a-44cf-8b69-a1334c38c895
SEQUENCE:0
DTSTAMP:20260423T175128Z
DTSTART:20240925T080000Z
DTEND:20240925T130000Z
SUMMARY:Jobmesse des BFD Nürnberg
LOCATION:Saaleck-Kaserne\, Rommelstraße 31\, 97762 Hammelburg\, DE
DESCRIPTION:(nur für Soldatinnen und Soldaten)\n\n / Die Job-Messe dient 
 den interessierten Soldatinnen und Soldaten zum Informationsgewinn über K
 arrieremöglichkeiten nach Dienstzeitende\, Stellenangebote und Ausbil
URL;VALUE=URI:https://www.rheinmetall.com/de/events/2024/jobmesse-des-bfd-
 nuernberg
END:VEVENT
END:VCALENDAR