BEGIN:VCALENDAR
VERSION:2.0
PRODID:-//rm//event//DE
METHOD:REQUEST
NAME:rm
X-WR-CALNAME:rm
BEGIN:VEVENT
UID:757afd0e-19be-4835-bed3-69ef8236817d
SEQUENCE:0
DTSTAMP:20260424T071126Z
DTSTART:20241015T220000Z
DTEND:20241015T220000Z
SUMMARY:Berufsförderungsdienst Job-Messe Ingolstadt
LOCATION:Ingolstadt\, Deutschland
DESCRIPTION:(nur für Soldatinnen und Soldaten)\n\n / Die Job-Messe dient 
 den interessierten Soldatinnen und Soldaten zum Informationsgewinn über K
 arrieremöglichkeiten nach Dienstzeitende\, Stellenangebote und Ausbil
URL;VALUE=URI:https://www.rheinmetall.com/de/events/2024/berufsfoerderungs
 dienst-job-messe-ingolstadt
END:VEVENT
END:VCALENDAR