BEGIN:VCALENDAR
VERSION:2.0
PRODID:-//rm//event//DE
METHOD:REQUEST
NAME:rm
X-WR-CALNAME:rm
BEGIN:VEVENT
UID:46bdb6e8-7c99-418d-a08e-9b49d69e2ed6
SEQUENCE:0
DTSTAMP:20260425T032414Z
DTSTART:20241017T000000Z
DTEND:20241017T000000Z
SUMMARY:Soldatentag bei Pierburg in Berlin
LOCATION:Pierburg\, Scheringstraße 2\, 13355 Berlin\, DE
DESCRIPTION:(nur für Soldatinnen und Soldaten)\n\n / Kennenlernen und Vor
 stellen von Einstiegsmöglichkeiten für interessierte Soldatinnen und Sol
 daten. Die Job-Messe dient den interessierten Soldatinnen und Soldate
URL;VALUE=URI:https://www.rheinmetall.com/de/events/2024/soldatentag-bei-p
 ierburg-in-berlin
END:VEVENT
END:VCALENDAR