BEGIN:VCALENDAR
VERSION:2.0
PRODID:-//rm//event//DE
METHOD:REQUEST
NAME:rm
X-WR-CALNAME:rm
BEGIN:VEVENT
UID:e25d0162-f9ce-490f-a041-2f3629b6924a
SEQUENCE:0
DTSTAMP:20260423T175925Z
DTSTART:20241017T070000Z
DTEND:20241017T160000Z
SUMMARY:Rheinmetall-Truck-Tour - Hamburg
LOCATION:Barclays Arena\, Hellgrundweg 44\, 22525 Hamburg\, DE
DESCRIPTION:/ Rheinmetall on the Road: Treffen Sie uns persönlich und erf
 ahren Sie mehr über Ihre Karrierechancen bei Rheinmetall!
URL;VALUE=URI:https://www.rheinmetall.com/de/events/2024/rheinmetall-truck
 -tour-hamburg
END:VEVENT
END:VCALENDAR