BEGIN:VCALENDAR
VERSION:2.0
PRODID:-//rm//event//DE
METHOD:REQUEST
NAME:rm
X-WR-CALNAME:rm
BEGIN:VEVENT
UID:2e051a6d-b06c-439d-be1d-9fd64035adde
SEQUENCE:0
DTSTAMP:20260423T122859Z
DTSTART:20241030T000000Z
DTEND:20241030T000000Z
SUMMARY:Berufsinformationsmesse der Bundeswehr
LOCATION:Hochstaufenkaserne\, Lange Gasse\, 83435 Bad Reichenhall\, DE
DESCRIPTION:(nur für Soldatinnen und Soldaten)\n\n / Kennenlernen und Vor
 stellen von Karrieremöglichkeiten nach Dienstzeitende\, Stellenangebote 
 sowie Ausbildungs- und Umschulungsplätze für interessierte Soldatinnen
URL;VALUE=URI:https://www.rheinmetall.com/de/events/2024/berufsinformation
 smesse-der-bundeswehr
END:VEVENT
END:VCALENDAR