BEGIN:VCALENDAR
VERSION:2.0
PRODID:-//rm//event//DE
METHOD:REQUEST
NAME:rm
X-WR-CALNAME:rm
BEGIN:VEVENT
UID:378b99ba-d655-4fbb-a4ac-60f6cc0faf36
SEQUENCE:0
DTSTAMP:20260423T162425Z
DTSTART:20241105T000000Z
DTEND:20241107T000000Z
SUMMARY:HOKO Hochschulkontaktmesse
LOCATION:Hochschule München\, Lothstraße 64\, 80335 München\, DE
DESCRIPTION:Weitere Informationen
URL;VALUE=URI:https://www.rheinmetall.com/de/events/2024/hoko-hochschulkon
 taktmesse
END:VEVENT
END:VCALENDAR