BEGIN:VCALENDAR
VERSION:2.0
PRODID:-//rm//event//DE
METHOD:REQUEST
NAME:rm
X-WR-CALNAME:rm
BEGIN:VEVENT
UID:52dcf42f-b704-45aa-9e71-1c4920d1e11a
SEQUENCE:0
DTSTAMP:20260424T071100Z
DTSTART:20241106T080000Z
DTEND:20241106T170000Z
SUMMARY:Rheinmetall-Truck-Tour - Furtwangen
LOCATION:Hochschule Furtwangen\, Robert-Gerwig-Platz 1\, 78120 Furtwangen\
 , DE
DESCRIPTION:/ Rheinmetall on the Road: Treffen Sie uns persönlich und erf
 ahren Sie mehr über Ihre Karrierechancen bei Rheinmetall!
URL;VALUE=URI:https://www.rheinmetall.com/de/events/2024/rheinmetall-truck
 -tour-furtwangen
END:VEVENT
END:VCALENDAR