BEGIN:VCALENDAR
VERSION:2.0
PRODID:-//rm//event//DE
METHOD:REQUEST
NAME:rm
X-WR-CALNAME:rm
BEGIN:VEVENT
UID:0e63dc7d-66fa-43b5-b31b-5911accf953b
SEQUENCE:0
DTSTAMP:20260423T123135Z
DTSTART:20241106T230000Z
DTEND:20241106T230000Z
SUMMARY:Soldatentag bei Rheinmetall in Penzberg
LOCATION:\, Grube 29\, 82377 Penzberg\, DE
DESCRIPTION:(nur für Soldatinnen und Soldaten)\n\n / Kennenlernen und Vor
 stellen von Einstiegsmöglichkeiten am Standort Penzberg für interessiert
 e Soldatinnen und Soldaten. Schwerpunkte: Standort Penzberg\, sowie Th
URL;VALUE=URI:https://www.rheinmetall.com/de/events/2024/soldatentag-bei-r
 heinmetall-in-penzberg
END:VEVENT
END:VCALENDAR