BEGIN:VCALENDAR
VERSION:2.0
PRODID:-//rm//event//DE
METHOD:REQUEST
NAME:rm
X-WR-CALNAME:rm
BEGIN:VEVENT
UID:4b386d63-8dd4-4925-bfe3-0a7664866d95
SEQUENCE:0
DTSTAMP:20260423T160636Z
DTSTART:20241113T080000Z
DTEND:20241113T130000Z
SUMMARY:Jobmesse Köln
LOCATION:\, Konrad-Adenauer-Kaserne\, 50968 Köln\, DE
DESCRIPTION:/ Die Job-Messe dient den interessierten Offizieren und Soldat
 en mit einem abgeschlossenen Studium zum Informationsgewinn über Karriere
 möglichkeiten nach Dienstzeitende\, Stellenangebote und Ausbildung
URL;VALUE=URI:https://www.rheinmetall.com/de/events/2024/jobmesse-koeln
END:VEVENT
END:VCALENDAR