BEGIN:VCALENDAR
VERSION:2.0
PRODID:-//rm//event//DE
METHOD:REQUEST
NAME:rm
X-WR-CALNAME:rm
BEGIN:VEVENT
UID:e8ef75e2-37fa-4962-8c86-7100c53ab059
SEQUENCE:0
DTSTAMP:20260423T161809Z
DTSTART:20241119T000000Z
DTEND:20241119T000000Z
SUMMARY:Soldatentag Online
LOCATION:Online
DESCRIPTION:(nur für Soldatinnen und Soldaten)\n\n / Kennenlernen und Vor
 stellen des neuen Standortes in Weeze für interessierte Soldatinnen und S
 oldaten. Schwerpunkte: Themenbereich F35.
URL;VALUE=URI:https://www.rheinmetall.com/de/events/2024/soldatentag-onlin
 e
END:VEVENT
END:VCALENDAR