BEGIN:VCALENDAR
VERSION:2.0
PRODID:-//rm//event//DE
METHOD:REQUEST
NAME:rm
X-WR-CALNAME:rm
BEGIN:VEVENT
UID:26bc3640-b897-4a66-8662-b77d21797e37
SEQUENCE:0
DTSTAMP:20260423T180104Z
DTSTART:20240925T080000Z
DTEND:20240925T130000Z
SUMMARY:Job fair of the BFD Nuremberg
LOCATION:Saaleck-Kaserne\, Rommelstraße 31\, 97762 Hammelburg\, DE
DESCRIPTION:(for soldiers only)\n\n / The job fair provides interested sol
 diers with information about career opportunities after the end of their s
 ervice\, job vacancies and training and retraining places in compan
URL;VALUE=URI:https://www.rheinmetall.com/en/events/2024/job-fair-of-the-b
 fd-nuremberg
END:VEVENT
END:VCALENDAR