BEGIN:VCALENDAR
VERSION:2.0
PRODID:-//rm//event//DE
METHOD:REQUEST
NAME:rm
X-WR-CALNAME:rm
BEGIN:VEVENT
UID:f4bca1c0-5ff3-4174-8fca-d6ffdd6bcf80
SEQUENCE:0
DTSTAMP:20260424T071318Z
DTSTART:20241015T220000Z
DTEND:20241015T220000Z
SUMMARY:BFD Job-Fair Ingolstadt
LOCATION:Ingolstadt\, Germany
DESCRIPTION:(for soldiers only)\n\n / The job fair provides interested sol
 diers with information about career opportunities after the end of their s
 ervice\, job vacancies and training and retraining places in compan
URL;VALUE=URI:https://www.rheinmetall.com/en/events/2024/bfd-job-fair-ingo
 lstadt
END:VEVENT
END:VCALENDAR