BEGIN:VCALENDAR
VERSION:2.0
PRODID:-//rm//event//DE
METHOD:REQUEST
NAME:rm
X-WR-CALNAME:rm
BEGIN:VEVENT
UID:be91e32e-582d-4ba2-9c12-2e976b7d409d
SEQUENCE:0
DTSTAMP:20260423T180104Z
DTSTART:20241017T100000Z
DTEND:20241017T150000Z
SUMMARY:Business and Career Forum at the University of the Bundeswehr in M
 unich
LOCATION:Campus der Universität der Bundeswehr München\, Werner-Heisenbe
 rg-Weg 393GEB\, 85579 Neubiberg\, DE
DESCRIPTION:(for soldiers only)\n\n / Invitation to an exchange between em
 ployers\, alumni\, doctoral candidates and students. In addition to the ca
 reer fair\, the national conference on professional orientation\, care
URL;VALUE=URI:https://www.rheinmetall.com/en/events/2024/business-and-care
 er-forum-at-the-university-of-the-bundeswehr-in-munich
END:VEVENT
END:VCALENDAR