BEGIN:VCALENDAR
VERSION:2.0
PRODID:-//rm//event//DE
METHOD:REQUEST
NAME:rm
X-WR-CALNAME:rm
BEGIN:VEVENT
UID:a5301638-93ea-436a-84c0-e233352117a9
SEQUENCE:0
DTSTAMP:20260423T151429Z
DTSTART:20241017T073000Z
DTEND:20241018T143000Z
SUMMARY:HerCareer
LOCATION:MOC\, Lilienthalallee 40\, 80939 Munich\, DE
DESCRIPTION:Further information
URL;VALUE=URI:https://www.rheinmetall.com/en/events/2024/hercareer
END:VEVENT
END:VCALENDAR