BEGIN:VCALENDAR
VERSION:2.0
PRODID:-//rm//event//DE
METHOD:REQUEST
NAME:rm
X-WR-CALNAME:rm
BEGIN:VEVENT
UID:efdcb9bb-a5e0-49a0-a5d9-d3f78c36f0b6
SEQUENCE:0
DTSTAMP:20260423T211104Z
DTSTART:20241029T080000Z
DTEND:20241029T170000Z
SUMMARY:Rheinmetall-Truck-Tour - Wuerzburg
LOCATION:Julius-Maximilians-Universität Würzburg\, Sanderring 2\, 97070 
 Wuerzburg\, DE
DESCRIPTION:/ Rheinmetall on the Road: Meet us in person and find out more
  about your career opportunities at Rheinmetall!
URL;VALUE=URI:https://www.rheinmetall.com/en/events/2024/rheinmetall-truck
 -tour-wuerzburg
END:VEVENT
END:VCALENDAR