BEGIN:VCALENDAR
VERSION:2.0
PRODID:-//rm//event//DE
METHOD:REQUEST
NAME:rm
X-WR-CALNAME:rm
BEGIN:VEVENT
UID:e74798bb-7054-416a-a06b-c1bd3edb9529
SEQUENCE:0
DTSTAMP:20260423T161901Z
DTSTART:20241030T080000Z
DTEND:20241030T170000Z
SUMMARY:Rheinmetall-Truck-Tour - Marburg
LOCATION:Erwin-Piscator-Haus\, Biegenstraße 15\, 35037 Marburg\, DE
DESCRIPTION:/ Rheinmetall on the Road: Meet us in person and find out more
  about your career opportunities at Rheinmetall!
URL;VALUE=URI:https://www.rheinmetall.com/en/events/2024/rheinmetall-truck
 -tour-marburg
END:VEVENT
END:VCALENDAR