BEGIN:VCALENDAR
VERSION:2.0
PRODID:-//rm//event//DE
METHOD:REQUEST
NAME:rm
X-WR-CALNAME:rm
BEGIN:VEVENT
UID:01697cb1-4082-4f7a-a50f-9c8e1347f0c2
SEQUENCE:0
DTSTAMP:20260423T143452Z
DTSTART:20241106T230000Z
DTEND:20241106T230000Z
SUMMARY:Soldier Day at Rheinmetall in Penzberg
LOCATION:\, Grube 29\, 82377 Penzberg\, DE
DESCRIPTION:(for soldiers only)\n\n / Getting to know and introducing entr
 y opportunities at the Penzberg site for interested soldiers. Focus: Penzb
 erg site\, as well as the topic of drones.
URL;VALUE=URI:https://www.rheinmetall.com/en/events/2024/soldier-day-at-rh
 einmetall-in-penzberg
END:VEVENT
END:VCALENDAR