BEGIN:VCALENDAR
VERSION:2.0
PRODID:-//rm//event//DE
METHOD:REQUEST
NAME:rm
X-WR-CALNAME:rm
BEGIN:VEVENT
UID:c987de2b-6358-43db-83ca-e421654395c5
SEQUENCE:0
DTSTAMP:20260423T161325Z
DTSTART:20241113T080000Z
DTEND:20241113T130000Z
SUMMARY:Jobfair Cologne
LOCATION:\, Konrad-Adenauer-Kaserne\, 50968 Cologne\, DE
DESCRIPTION:/ The job fair is for interested officers and soldiers with a 
 degree to gain information about career opportunities after the end of the
 ir service\, job offers and training and retraining places in com
URL;VALUE=URI:https://www.rheinmetall.com/en/events/2024/jobfair-cologne
END:VEVENT
END:VCALENDAR