BEGIN:VCALENDAR
VERSION:2.0
PRODID:-//rm//event//DE
METHOD:REQUEST
NAME:rm
X-WR-CALNAME:rm
BEGIN:VEVENT
UID:ba394237-ec2a-4677-8f58-10cd1a46f817
SEQUENCE:0
DTSTAMP:20260423T180103Z
DTSTART:20241119T000000Z
DTEND:20241119T000000Z
SUMMARY:Soldier Day Online
LOCATION:Online
DESCRIPTION:(for soldiers only)\n\n / Introducing the new base in Weeze to
  interested military personnel. Focus: F35 topic.
URL;VALUE=URI:https://www.rheinmetall.com/en/events/2024/soldier-day-onlin
 e
END:VEVENT
END:VCALENDAR