BEGIN:VCALENDAR
VERSION:2.0
PRODID:-//rm//event//DE
METHOD:REQUEST
NAME:rm
X-WR-CALNAME:rm
BEGIN:VEVENT
UID:56ac8d4c-23a0-48fa-a082-ea7697acad1a
SEQUENCE:0
DTSTAMP:20260423T161242Z
DTSTART:20250527T220000Z
DTEND:20250528T220000Z
SUMMARY:CANSEC
LOCATION:Ottawa\, Canada
DESCRIPTION:Further information
URL;VALUE=URI:https://www.rheinmetall.com/en/events/2025/cansec
END:VEVENT
END:VCALENDAR