BEGIN:VCALENDAR
VERSION:2.0
PRODID:-//rm//event//DE
METHOD:REQUEST
NAME:rm
X-WR-CALNAME:rm
BEGIN:VEVENT
UID:22e31471-fbad-4dbc-be86-d8b17242b556
SEQUENCE:0
DTSTAMP:20260423T174709Z
DTSTART:20250909T000000Z
DTEND:20250912T000000Z
SUMMARY:DSEI
LOCATION:London\, United Kingdom
DESCRIPTION:Further information
URL;VALUE=URI:https://www.rheinmetall.com/en/events/2025/dsei
END:VEVENT
END:VCALENDAR