BEGIN:VCALENDAR
VERSION:2.0
PRODID:-//rm//event//DE
METHOD:REQUEST
NAME:rm
X-WR-CALNAME:rm
BEGIN:VEVENT
UID:a761ed0c-2d90-4667-8df5-3b25a4be7098
SEQUENCE:0
DTSTAMP:20260423T175256Z
DTSTART:20250929T000000Z
DTEND:20251002T000000Z
SUMMARY:Sea Future
LOCATION:La Spezia\, Italy
DESCRIPTION:Further information
URL;VALUE=URI:https://www.rheinmetall.com/en/events/2025/sea-future
END:VEVENT
END:VCALENDAR