BEGIN:VCALENDAR
VERSION:2.0
PRODID:-//rm//event//DE
METHOD:REQUEST
NAME:rm
X-WR-CALNAME:rm
BEGIN:VEVENT
UID:541ff130-8e6f-4d4b-ad0e-4d8cdc69910d
SEQUENCE:0
DTSTAMP:20260423T175220Z
DTSTART:20250901T220000Z
DTEND:20250904T220000Z
SUMMARY:MSPO
LOCATION:Kielce\, Poland
DESCRIPTION:Further information
URL;VALUE=URI:https://www.rheinmetall.com/en/events/2025/mspo
END:VEVENT
END:VCALENDAR