BEGIN:VCALENDAR
VERSION:2.0
PRODID:-//rm//event//DE
METHOD:REQUEST
NAME:rm
X-WR-CALNAME:rm
BEGIN:VEVENT
UID:e683c48c-0225-40dc-8a51-683e139d2669
SEQUENCE:0
DTSTAMP:20260425T032857Z
DTSTART:20241202T000000Z
DTEND:20241202T000000Z
SUMMARY:Berenberg European Conference 2024
LOCATION:Vereinigtes Königreich
DESCRIPTION:
URL;VALUE=URI:https://www.rheinmetall.com/de/events/2024/ir/berenberg-euro
 pean-conference-2024
END:VEVENT
END:VCALENDAR