BEGIN:VCALENDAR
VERSION:2.0
PRODID:-//rm//event//DE
METHOD:REQUEST
NAME:rm
X-WR-CALNAME:rm
BEGIN:VEVENT
UID:6429a426-39a5-4dea-8a12-c49a644c0a4b
SEQUENCE:0
DTSTAMP:20260423T175953Z
DTSTART:20241118T000000Z
DTEND:20241119T000000Z
SUMMARY:Save the Date - Capital Markets Day
DESCRIPTION:
URL;VALUE=URI:https://www.rheinmetall.com/de/events/2024/ir/save-the-date-
 capital-markets-day
END:VEVENT
END:VCALENDAR