BEGIN:VCALENDAR
VERSION:2.0
PRODID:-//rm//event//DE
METHOD:REQUEST
NAME:rm
X-WR-CALNAME:rm
BEGIN:VEVENT
UID:00b9ea7c-63c4-42e2-86e2-14aaf251eefd
SEQUENCE:0
DTSTAMP:20260423T202540Z
DTSTART:20241107T000000Z
DTEND:20241107T000000Z
SUMMARY:Bericht über das 3. Quartal
DESCRIPTION:
URL;VALUE=URI:https://www.rheinmetall.com/de/events/2024/ir/bericht-ueber-
 das-3-quartal
END:VEVENT
END:VCALENDAR