BEGIN:VCALENDAR
VERSION:2.0
PRODID:-//rm//event//DE
METHOD:REQUEST
NAME:rm
X-WR-CALNAME:rm
BEGIN:VEVENT
UID:efcec59c-3fa2-4268-87aa-3ae20739f102
SEQUENCE:0
DTSTAMP:20260424T015750Z
DTSTART:20240911T000000Z
DTEND:20240911T000000Z
SUMMARY:Morgan Stanley\, 12th Annual Laguna Conference
LOCATION:USA
DESCRIPTION:
URL;VALUE=URI:https://www.rheinmetall.com/de/events/2024/ir/morgan-stanley
 -12th-annual-laguna-conference
END:VEVENT
END:VCALENDAR