BEGIN:VCALENDAR
VERSION:2.0
PRODID:-//rm//event//DE
METHOD:REQUEST
NAME:rm
X-WR-CALNAME:rm
BEGIN:VEVENT
UID:b24ae118-4c10-411e-8f87-7a159b8d8a04
SEQUENCE:0
DTSTAMP:20260423T163337Z
DTSTART:20240911T000000Z
DTEND:20240911T000000Z
SUMMARY:Kepler Cheuvreux\, Autumn Conference
LOCATION:Paris\, Frankreich
DESCRIPTION:
URL;VALUE=URI:https://www.rheinmetall.com/de/events/2024/ir/kepler-cheuvre
 ux-autumn-conference
END:VEVENT
END:VCALENDAR