BEGIN:VCALENDAR
VERSION:2.0
PRODID:-//rm//event//DE
METHOD:REQUEST
NAME:rm
X-WR-CALNAME:rm
BEGIN:VEVENT
UID:f0588e62-2fac-4e3c-a260-12bfdf83841c
SEQUENCE:0
DTSTAMP:20260423T175224Z
DTSTART:20230810T000000Z
DTEND:20230810T000000Z
SUMMARY:Bericht über das 2. Quartal
DESCRIPTION:
URL;VALUE=URI:https://www.rheinmetall.com/de/events/2024/ir/bericht-ueber-
 das-2-quartal
END:VEVENT
END:VCALENDAR