BEGIN:VCALENDAR
VERSION:2.0
PRODID:-//rm//event//DE
METHOD:REQUEST
NAME:rm
X-WR-CALNAME:rm
BEGIN:VEVENT
UID:90bba800-f0b1-4693-ae7e-071ba4511500
SEQUENCE:0
DTSTAMP:20260424T025815Z
DTSTART:20240612T000000Z
DTEND:20240612T000000Z
SUMMARY:J.P. Morgan European Capital Goods Conference
LOCATION:London\, Vereinigtes Königreich
DESCRIPTION:
URL;VALUE=URI:https://www.rheinmetall.com/de/events/2024/ir/j-p-morgan-eur
 opean-capital-goods-conference
END:VEVENT
END:VCALENDAR