BEGIN:VCALENDAR
VERSION:2.0
PRODID:-//rm//event//DE
METHOD:REQUEST
NAME:rm
X-WR-CALNAME:rm
BEGIN:VEVENT
UID:2ee6993b-758a-4f00-b9df-af7c5debd195
SEQUENCE:0
DTSTAMP:20260423T151715Z
DTSTART:20240522T000000Z
DTEND:20240523T000000Z
SUMMARY:Deutsche Bank\, dbAccess European Champions Conference
LOCATION:Frankfurt\, Deutschland
DESCRIPTION:
URL;VALUE=URI:https://www.rheinmetall.com/de/events/2024/ir/deutsche-bank-
 dbaccess-european-champions-conference
END:VEVENT
END:VCALENDAR