BEGIN:VCALENDAR
VERSION:2.0
PRODID:-//rm//event//DE
METHOD:REQUEST
NAME:rm
X-WR-CALNAME:rm
BEGIN:VEVENT
UID:7902f582-a24f-4dd3-8fa8-740ebac00b44
SEQUENCE:0
DTSTAMP:20260423T123234Z
DTSTART:20240521T000000Z
DTEND:20240521T000000Z
SUMMARY:Barclays\, European Select Conference
LOCATION:New York\, USA
DESCRIPTION:
URL;VALUE=URI:https://www.rheinmetall.com/de/events/2024/ir/barclays-europ
 ean-select-conference
END:VEVENT
END:VCALENDAR