BEGIN:VCALENDAR
VERSION:2.0
PRODID:-//rm//event//DE
METHOD:REQUEST
NAME:rm
X-WR-CALNAME:rm
BEGIN:VEVENT
UID:f4d216b8-a265-4e50-b745-204870479758
SEQUENCE:0
DTSTAMP:20260423T175144Z
DTSTART:20240514T000000Z
DTEND:20240514T000000Z
SUMMARY:Bericht über das 1. Quartal
DESCRIPTION:
URL;VALUE=URI:https://www.rheinmetall.com/de/events/2024/ir/bericht-ueber-
 das-1-quartal
END:VEVENT
END:VCALENDAR