BEGIN:VCALENDAR
VERSION:2.0
PRODID:-//rm//event//DE
METHOD:REQUEST
NAME:rm
X-WR-CALNAME:rm
BEGIN:VEVENT
UID:8f1d8ceb-15a2-4356-9a5f-2c2344504f43
SEQUENCE:0
DTSTAMP:20260423T202602Z
DTSTART:20240326T000000Z
DTEND:20240326T000000Z
SUMMARY:Kepler Cheuvreux\, Defence Conference
LOCATION:Online
DESCRIPTION:
URL;VALUE=URI:https://www.rheinmetall.com/de/events/2024/ir/kepler-cheuvre
 ux-defence-conference
END:VEVENT
END:VCALENDAR