BEGIN:VCALENDAR
VERSION:2.0
PRODID:-//rm//event//DE
METHOD:REQUEST
NAME:rm
X-WR-CALNAME:rm
BEGIN:VEVENT
UID:21605dac-07d2-42ec-8e7b-b31dd228eec7
SEQUENCE:0
DTSTAMP:20260423T175143Z
DTSTART:20240314T000000Z
DTEND:20240314T000000Z
SUMMARY:Bilanzpressekonferenz
DESCRIPTION:
URL;VALUE=URI:https://www.rheinmetall.com/de/events/2024/ir/bilanzpresseko
 nferenz
END:VEVENT
END:VCALENDAR