BEGIN:VCALENDAR
VERSION:2.0
PRODID:-//rm//event//DE
METHOD:REQUEST
NAME:rm
X-WR-CALNAME:rm
BEGIN:VEVENT
UID:94e1189a-d711-4ce4-99bc-f586e57c8f95
SEQUENCE:0
DTSTAMP:20260425T032647Z
DTSTART:20240115T000000Z
DTEND:20240116T000000Z
SUMMARY:KeplerCheuvreux UniCredit\, German Corporate Conference
LOCATION:Frankfurt\, Deutschland
DESCRIPTION:
URL;VALUE=URI:https://www.rheinmetall.com/de/events/2024/ir/keplercheuvreu
 x-unicredit-german-corporate-conference
END:VEVENT
END:VCALENDAR