BEGIN:VCALENDAR
VERSION:2.0
PRODID:-//rm//event//DE
METHOD:REQUEST
NAME:rm
X-WR-CALNAME:rm
BEGIN:VEVENT
UID:f54218c6-0937-4eea-ae28-32fe5466a9f6
SEQUENCE:0
DTSTAMP:20260425T032535Z
DTSTART:20231211T000000Z
DTEND:20231211T000000Z
SUMMARY:Kepler Cheuvreux\, CEO Tour
LOCATION:Online
DESCRIPTION:
URL;VALUE=URI:https://www.rheinmetall.com/de/events/2023/ir/kepler-cheuvre
 ux-ceo-tour
END:VEVENT
END:VCALENDAR