BEGIN:VCALENDAR
VERSION:2.0
PRODID:-//rm//event//DE
METHOD:REQUEST
NAME:rm
X-WR-CALNAME:rm
BEGIN:VEVENT
UID:72de58fe-719a-4650-a304-22c6b3da0094
SEQUENCE:0
DTSTAMP:20260424T071152Z
DTSTART:20231206T000000Z
DTEND:20231206T000000Z
SUMMARY:Goldman Sachs\, Industrial Conference
LOCATION:London\, Vereinigtes Königreich
DESCRIPTION:
URL;VALUE=URI:https://www.rheinmetall.com/de/events/2023/ir/goldman-sachs-
 industrial-conference
END:VEVENT
END:VCALENDAR