BEGIN:VCALENDAR
VERSION:2.0
PRODID:-//rm//event//DE
METHOD:REQUEST
NAME:rm
X-WR-CALNAME:rm
BEGIN:VEVENT
UID:af5c35de-ed21-419e-991b-d552d4155f25
SEQUENCE:0
DTSTAMP:20260423T202507Z
DTSTART:20231128T000000Z
DTEND:20231128T000000Z
SUMMARY:Deutsches Eigenkapitalforum
LOCATION:Frankfurt\, Deutschland
DESCRIPTION:
URL;VALUE=URI:https://www.rheinmetall.com/de/events/2023/ir/deutsches-eige
 nkapitalforum
END:VEVENT
END:VCALENDAR