BEGIN:VCALENDAR
VERSION:2.0
PRODID:-//rm//event//DE
METHOD:REQUEST
NAME:rm
X-WR-CALNAME:rm
BEGIN:VEVENT
UID:9205ab8e-713a-459c-b8d3-f7097ab8da8e
SEQUENCE:0
DTSTAMP:20260424T025921Z
DTSTART:20230921T000000Z
DTEND:20230921T000000Z
SUMMARY:Baader Investment Conference
LOCATION:München\, Deutschland
DESCRIPTION:
URL;VALUE=URI:https://www.rheinmetall.com/de/events/2023/ir/baader-investm
 ent-conference
END:VEVENT
END:VCALENDAR