BEGIN:VCALENDAR
VERSION:2.0
PRODID:-//rm//event//DE
METHOD:REQUEST
NAME:rm
X-WR-CALNAME:rm
BEGIN:VEVENT
UID:662053aa-2377-4368-b42d-7155666a6972
SEQUENCE:0
DTSTAMP:20260425T032444Z
DTSTART:20240808T000000Z
DTEND:20240808T000000Z
SUMMARY:Bericht über das 2. Quartal
DESCRIPTION:
URL;VALUE=URI:https://www.rheinmetall.com/de/events/2023/ir/bericht-ueber-
 das-2-quartal
END:VEVENT
END:VCALENDAR