BEGIN:VCALENDAR
VERSION:2.0
PRODID:-//rm//event//DE
METHOD:REQUEST
NAME:rm
X-WR-CALNAME:rm
BEGIN:VEVENT
UID:19fc649b-3776-428c-b589-e73996be0269
SEQUENCE:0
DTSTAMP:20260424T121142Z
DTSTART:20230620T000000Z
DTEND:20230621T000000Z
SUMMARY:dbAccess German Swiss Austrian Conference\, Deutsche Bank
LOCATION:Frankfurt\, Deutschland
DESCRIPTION:
URL;VALUE=URI:https://www.rheinmetall.com/de/events/2023/ir/dbaccess-germa
 n-swiss-austrian-conference-deutsche-bank
END:VEVENT
END:VCALENDAR