BEGIN:VCALENDAR
VERSION:2.0
PRODID:-//rm//event//DE
METHOD:REQUEST
NAME:rm
X-WR-CALNAME:rm
BEGIN:VEVENT
UID:289fc7e4-de44-4199-bcb8-decac8f96984
SEQUENCE:0
DTSTAMP:20260424T025927Z
DTSTART:20230602T000000Z
DTEND:20230602T000000Z
SUMMARY:The Nice Conference\, Société Générale
LOCATION:Nizza\, Frankreich
DESCRIPTION:
URL;VALUE=URI:https://www.rheinmetall.com/de/events/2023/ir/the-nice-confe
 rence-societe-generale
END:VEVENT
END:VCALENDAR