BEGIN:VCALENDAR
VERSION:2.0
PRODID:-//rm//event//DE
METHOD:REQUEST
NAME:rm
X-WR-CALNAME:rm
BEGIN:VEVENT
UID:369ca5d8-cdea-4f86-b729-5f71b6e936f4
SEQUENCE:0
DTSTAMP:20260423T175925Z
DTSTART:20230523T000000Z
DTEND:20230523T000000Z
SUMMARY:Berenberg European Conference
LOCATION:New York\, USA
DESCRIPTION:
URL;VALUE=URI:https://www.rheinmetall.com/de/events/2023/ir/berenberg-euro
 pean-conference
END:VEVENT
END:VCALENDAR