BEGIN:VCALENDAR
VERSION:2.0
PRODID:-//rm//event//DE
METHOD:REQUEST
NAME:rm
X-WR-CALNAME:rm
BEGIN:VEVENT
UID:ac669708-9fb6-49d0-aae0-61229eff845b
SEQUENCE:0
DTSTAMP:20260424T211003Z
DTSTART:20230517T000000Z
DTEND:20230517T000000Z
SUMMARY:Best of Europe Conference\, UBS
LOCATION:Online
DESCRIPTION:
URL;VALUE=URI:https://www.rheinmetall.com/de/events/2023/ir/best-of-europe
 -conference-ubs
END:VEVENT
END:VCALENDAR