BEGIN:VCALENDAR
VERSION:2.0
PRODID:-//rm//event//DE
METHOD:REQUEST
NAME:rm
X-WR-CALNAME:rm
BEGIN:VEVENT
UID:92c749dc-3e46-4773-bd5d-956e945dc44e
SEQUENCE:0
DTSTAMP:20260423T175952Z
DTSTART:20230512T000000Z
DTEND:20230512T000000Z
SUMMARY:Stifel German Corporate\, Coporate Conference
LOCATION:Frankfurt\, Deutschland
DESCRIPTION:
URL;VALUE=URI:https://www.rheinmetall.com/de/events/2023/ir/stifel-german-
 corporate-coporate-conference
END:VEVENT
END:VCALENDAR