BEGIN:VCALENDAR
VERSION:2.0
PRODID:-//rm//event//DE
METHOD:REQUEST
NAME:rm
X-WR-CALNAME:rm
BEGIN:VEVENT
UID:e659735d-e4a3-4933-ba25-5b49acb791d4
SEQUENCE:0
DTSTAMP:20260424T025815Z
DTSTART:20230509T000000Z
DTEND:20230509T000000Z
SUMMARY:Hauptversammlung Rheinmetall AG
LOCATION:Online
DESCRIPTION:
URL;VALUE=URI:https://www.rheinmetall.com/de/events/2023/ir/hauptversammlu
 ng-rheinmetall-ag
END:VEVENT
END:VCALENDAR